BEGIN:VCALENDAR
VERSION:2.0
PRODID:-//Colorado CTE - ECPv6.15.20//NONSGML v1.0//EN
CALSCALE:GREGORIAN
METHOD:PUBLISH
X-ORIGINAL-URL:https://cteincolorado.org
X-WR-CALDESC:Events for Colorado CTE
REFRESH-INTERVAL;VALUE=DURATION:PT1H
X-Robots-Tag:noindex
X-PUBLISHED-TTL:PT1H
BEGIN:VTIMEZONE
TZID:America/Denver
BEGIN:DAYLIGHT
TZOFFSETFROM:-0700
TZOFFSETTO:-0600
TZNAME:MDT
DTSTART:20250309T090000
END:DAYLIGHT
BEGIN:STANDARD
TZOFFSETFROM:-0600
TZOFFSETTO:-0700
TZNAME:MST
DTSTART:20251102T080000
END:STANDARD
BEGIN:DAYLIGHT
TZOFFSETFROM:-0700
TZOFFSETTO:-0600
TZNAME:MDT
DTSTART:20260308T090000
END:DAYLIGHT
BEGIN:STANDARD
TZOFFSETFROM:-0600
TZOFFSETTO:-0700
TZNAME:MST
DTSTART:20261101T080000
END:STANDARD
BEGIN:DAYLIGHT
TZOFFSETFROM:-0700
TZOFFSETTO:-0600
TZNAME:MDT
DTSTART:20270314T090000
END:DAYLIGHT
BEGIN:STANDARD
TZOFFSETFROM:-0600
TZOFFSETTO:-0700
TZNAME:MST
DTSTART:20271107T080000
END:STANDARD
END:VTIMEZONE
BEGIN:VEVENT
DTSTART;TZID=America/Denver:20260729T140000
DTEND;TZID=America/Denver:20260729T160000
DTSTAMP:20260425T090012
CREATED:20260220T202138Z
LAST-MODIFIED:20260223T192600Z
UID:10000031-1785333600-1785340800@cteincolorado.org
SUMMARY:Active Teacher & Enrollment Helpdesk
DESCRIPTION:Stop by to get assistance on your Active Teachers or Enrollment Reporting!
URL:https://cteincolorado.org/event/active-teacher-enrollment-helpdesk-5/
CATEGORIES:Data Collection,Helpdesk
LOCATION:https://cccs-edu.zoom.us/j/85906392099
END:VEVENT
BEGIN:VEVENT
DTSTART;TZID=America/Denver:20260730T140000
DTEND;TZID=America/Denver:20260730T160000
DTSTAMP:20260425T090012
CREATED:20260220T202140Z
LAST-MODIFIED:20260223T192013Z
UID:10000032-1785420000-1785427200@cteincolorado.org
SUMMARY:Active Teacher & Enrollment Helpdesk
DESCRIPTION:Stop by to get assistance on your Active Teachers or Enrollment Reporting!
URL:https://cteincolorado.org/event/active-teacher-enrollment-helpdesk-6/
CATEGORIES:Data Collection,Helpdesk
LOCATION:https://cccs-edu.zoom.us/j/85906392099
END:VEVENT
BEGIN:VEVENT
DTSTART;TZID=America/Denver:20260730T153000
DTEND;TZID=America/Denver:20260730T163000
DTSTAMP:20260425T090012
CREATED:20260223T212027Z
LAST-MODIFIED:20260224T185831Z
UID:10000038-1785425400-1785429000@cteincolorado.org
SUMMARY:CTE Director Office Hours
DESCRIPTION:Open CTE Director office hours to provide support\, troubleshoot any challenges\, or connect to the CTE team.
URL:https://cteincolorado.org/event/cte-director-office-hours-5/
CATEGORIES:Office Hours
LOCATION:https://cccsmeetings.webex.com/cccsmeetings/j.php?MTID=m50bc8ed5 1e1bbe2e1fcb2f4622438832
END:VEVENT
BEGIN:VEVENT
DTSTART;TZID=America/Denver:20260731T140000
DTEND;TZID=America/Denver:20260731T160000
DTSTAMP:20260425T090012
CREATED:20260220T202142Z
LAST-MODIFIED:20260223T191304Z
UID:10000033-1785506400-1785513600@cteincolorado.org
SUMMARY:Active Teacher & Enrollment Helpdesk
DESCRIPTION:Stop by to get assistance on your Active Teachers or Enrollment Reporting!
URL:https://cteincolorado.org/event/active-teacher-enrollment-helpdesk-7/
CATEGORIES:Data Collection,Helpdesk
LOCATION:https://cccs-edu.zoom.us/j/85906392099
END:VEVENT
END:VCALENDAR