BEGIN:VCALENDAR
VERSION:2.0
PRODID:-//Colorado CTE - ECPv6.15.20//NONSGML v1.0//EN
CALSCALE:GREGORIAN
METHOD:PUBLISH
X-WR-CALNAME:Colorado CTE
X-ORIGINAL-URL:https://cteincolorado.org
X-WR-CALDESC:Events for Colorado CTE
REFRESH-INTERVAL;VALUE=DURATION:PT1H
X-Robots-Tag:noindex
X-PUBLISHED-TTL:PT1H
BEGIN:VTIMEZONE
TZID:America/Denver
BEGIN:DAYLIGHT
TZOFFSETFROM:-0700
TZOFFSETTO:-0600
TZNAME:MDT
DTSTART:20240310T090000
END:DAYLIGHT
BEGIN:STANDARD
TZOFFSETFROM:-0600
TZOFFSETTO:-0700
TZNAME:MST
DTSTART:20241103T080000
END:STANDARD
BEGIN:DAYLIGHT
TZOFFSETFROM:-0700
TZOFFSETTO:-0600
TZNAME:MDT
DTSTART:20250309T090000
END:DAYLIGHT
BEGIN:STANDARD
TZOFFSETFROM:-0600
TZOFFSETTO:-0700
TZNAME:MST
DTSTART:20251102T080000
END:STANDARD
BEGIN:DAYLIGHT
TZOFFSETFROM:-0700
TZOFFSETTO:-0600
TZNAME:MDT
DTSTART:20260308T090000
END:DAYLIGHT
BEGIN:STANDARD
TZOFFSETFROM:-0600
TZOFFSETTO:-0700
TZNAME:MST
DTSTART:20261101T080000
END:STANDARD
END:VTIMEZONE
BEGIN:VEVENT
DTSTART;TZID=America/Denver:20250923T080000
DTEND;TZID=America/Denver:20250923T170000
DTSTAMP:20260425T104734
CREATED:20250826T210930Z
LAST-MODIFIED:20250826T211626Z
UID:10000019-1758614400-1758646800@cteincolorado.org
SUMMARY:CTE Fall Roadshow - La Junta
DESCRIPTION:2025 CTE Roadshow-CLNA Flyer \nSignup for La Junta! \nThe Colorado CTE team is hitting the road in September! Join us on September 23rd\, 2025\, at Otero College in La Junta. We’ll discuss the Comprehensive Local Needs Assessment\, CTE data and using the Goal Setting Tool\, hiring/retention strategies\, and more. See below for a draft of the agenda. \nTentative agenda\n8:30-9:00 – Registration and Check-In\n9:00-9:30 – Welcome and Overview of Day\n9:30-11:00 – CLNA Strategy Review\n11:00-Noon – CTE Data Deep Dives and Goal Setting Tool\nNoon-1:00 – Lunch (provided by CCCS) and table discussions with program directors \n\n1:00-4:00 — Afternoon breakout sessions\, which may include topics like career conversations\, CTE educator recruitment/retention\, WBL\, industry certifications\, etc.\n\n\n\nThis event is FREE. No travel reimbursement or sub coverage will be provided\, although you can assign funds in your Perkins plan towards the costs of attending.
URL:https://cteincolorado.org/event/cte-fall-roadshow-la-junta/
LOCATION:Otero College\, 1802 Colorado Ave\, La Junta\, CO\, 81050
ATTACH;FMTTYPE=image/png:https://cteincolorado.org/wp-content/uploads/2025/07/CTE-Roadshow-Bus-2025.png
END:VEVENT
BEGIN:VEVENT
DTSTART;TZID=America/Denver:20250922T080000
DTEND;TZID=America/Denver:20250922T170000
DTSTAMP:20260425T104734
CREATED:20250826T203442Z
LAST-MODIFIED:20250826T211642Z
UID:10000018-1758528000-1758560400@cteincolorado.org
SUMMARY:CTE Fall Roadshow - Sterling
DESCRIPTION:2025 CTE Roadshow-CLNA Flyer \nSignup for Sterling! \nThe Colorado CTE team is hitting the road in September! Join us on September 22nd\, 2025\, at Northeastern Junior College in Sterling. We’ll discuss the Comprehensive Local Needs Assessment\, CTE data and using the Goal Setting Tool\, hiring/retention strategies\, and more. See below for a draft of the agenda. \n\nTentative agenda\n8:30-9:00 – Registration and Check-In\n9:00-9:30 – Welcome and Overview of Day\n9:30-11:00 – CLNA Strategy Review\n11:00-Noon – CTE Data Deep Dives and Goal Setting Tool\nNoon-1:00 – Lunch (provided by CCCS) and table discussions with program directors\n1:00-4:00 — Afternoon breakout sessions\, which may include topics like career conversations\, CTE educator recruitment/retention\, WBL\, industry certifications\, etc.\n\n\nThis event is FREE. No travel reimbursement or sub coverage will be provided\, although you can assign funds in your Perkins plan towards the costs of attending.
URL:https://cteincolorado.org/event/cte-fall-roadshow-sterling/
LOCATION:Northeastern Junior College\, 100 College Ave\, Sterling\, CO\, 80751
ATTACH;FMTTYPE=image/png:https://cteincolorado.org/wp-content/uploads/2025/07/CTE-Roadshow-Bus-2025.png
END:VEVENT
END:VCALENDAR