BEGIN:VCALENDAR
VERSION:2.0
PRODID:-//Colorado CTE - ECPv6.15.20//NONSGML v1.0//EN
CALSCALE:GREGORIAN
METHOD:PUBLISH
X-ORIGINAL-URL:https://cteincolorado.org
X-WR-CALDESC:Events for Colorado CTE
REFRESH-INTERVAL;VALUE=DURATION:PT1H
X-Robots-Tag:noindex
X-PUBLISHED-TTL:PT1H
BEGIN:VTIMEZONE
TZID:America/Denver
BEGIN:DAYLIGHT
TZOFFSETFROM:-0700
TZOFFSETTO:-0600
TZNAME:MDT
DTSTART:20250309T090000
END:DAYLIGHT
BEGIN:STANDARD
TZOFFSETFROM:-0600
TZOFFSETTO:-0700
TZNAME:MST
DTSTART:20251102T080000
END:STANDARD
BEGIN:DAYLIGHT
TZOFFSETFROM:-0700
TZOFFSETTO:-0600
TZNAME:MDT
DTSTART:20260308T090000
END:DAYLIGHT
BEGIN:STANDARD
TZOFFSETFROM:-0600
TZOFFSETTO:-0700
TZNAME:MST
DTSTART:20261101T080000
END:STANDARD
BEGIN:DAYLIGHT
TZOFFSETFROM:-0700
TZOFFSETTO:-0600
TZNAME:MDT
DTSTART:20270314T090000
END:DAYLIGHT
BEGIN:STANDARD
TZOFFSETFROM:-0600
TZOFFSETTO:-0700
TZNAME:MST
DTSTART:20271107T080000
END:STANDARD
END:VTIMEZONE
BEGIN:VEVENT
DTSTART;TZID=America/Denver:20260225T140000
DTEND;TZID=America/Denver:20260225T160000
DTSTAMP:20260425T071146
CREATED:20260220T195550Z
LAST-MODIFIED:20260223T192939Z
UID:10000023-1772028000-1772035200@cteincolorado.org
SUMMARY:Follow-Up Helpdesk
DESCRIPTION:Stop by to get assistance on your Follow-Up reporting!
URL:https://cteincolorado.org/event/follow-up-helpdesk/
CATEGORIES:Data Collection,Helpdesk
LOCATION:https://cccs-edu.zoom.us/j/85906392099
END:VEVENT
BEGIN:VEVENT
DTSTART;TZID=America/Denver:20260226T153000
DTEND;TZID=America/Denver:20260226T163000
DTSTAMP:20260425T071146
CREATED:20260223T212015Z
LAST-MODIFIED:20260224T204853Z
UID:10000034-1772119800-1772123400@cteincolorado.org
SUMMARY:CTE Director Office Hours
DESCRIPTION:Open CTE Director office hours to provide support\, troubleshoot any challenges\, or connect to the CTE team.
URL:https://cteincolorado.org/event/cte-director-office-hours/
CATEGORIES:Office Hours
LOCATION:https://cccsmeetings.webex.com/cccsmeetings/j.php?MTID=m50bc8ed5 1e1bbe2e1fcb2f4622438832
END:VEVENT
BEGIN:VEVENT
DTSTART;TZID=America/Denver:20260304T110000
DTEND;TZID=America/Denver:20260304T120000
DTSTAMP:20260425T071146
CREATED:20260224T172627Z
LAST-MODIFIED:20260224T204713Z
UID:10000039-1772622000-1772625600@cteincolorado.org
SUMMARY:OGA and Goal Setting Webinar
DESCRIPTION:
URL:https://cteincolorado.org/event/oga-and-goal-setting-webinar/
CATEGORIES:Professional Development
LOCATION:https://cccsedu.zoom.us/j/85906392099
END:VEVENT
BEGIN:VEVENT
DTSTART;TZID=America/Denver:20260311T140000
DTEND;TZID=America/Denver:20260311T160000
DTSTAMP:20260425T071146
CREATED:20260220T202114Z
LAST-MODIFIED:20260223T194449Z
UID:10000024-1773237600-1773244800@cteincolorado.org
SUMMARY:Follow-Up Helpdesk
DESCRIPTION:Stop by to get assistance on your Follow-Up reporting!
URL:https://cteincolorado.org/event/follow-up-helpdesk-2/
CATEGORIES:Data Collection,Helpdesk
LOCATION:https://cccs-edu.zoom.us/j/85906392099
END:VEVENT
BEGIN:VEVENT
DTSTART;TZID=America/Denver:20260318T150000
DTEND;TZID=America/Denver:20260318T160000
DTSTAMP:20260425T071146
CREATED:20260224T172632Z
LAST-MODIFIED:20260224T204336Z
UID:10000040-1773846000-1773849600@cteincolorado.org
SUMMARY:Program Approval Revisions/Renewal Webinar
DESCRIPTION:
URL:https://cteincolorado.org/event/program-approval-revisions-renewal-webinar/
CATEGORIES:Professional Development
LOCATION:https://cccsedu.zoom.us/j/88643692769?pw d=qDbXOlSX5cghYF0VByWUtBC EoS2nZw.1&from=addon
END:VEVENT
BEGIN:VEVENT
DTSTART;TZID=America/Denver:20260325T140000
DTEND;TZID=America/Denver:20260325T160000
DTSTAMP:20260425T071146
CREATED:20260220T202121Z
LAST-MODIFIED:20260223T194252Z
UID:10000025-1774447200-1774454400@cteincolorado.org
SUMMARY:Follow-Up Helpdesk
DESCRIPTION:Stop by to get assistance on your Follow-Up reporting!
URL:https://cteincolorado.org/event/follow-up-helpdesk-3/
CATEGORIES:Data Collection,Helpdesk
LOCATION:https://cccs-edu.zoom.us/j/85906392099
END:VEVENT
BEGIN:VEVENT
DTSTART;TZID=America/Denver:20260326T153000
DTEND;TZID=America/Denver:20260326T163000
DTSTAMP:20260425T071146
CREATED:20260223T212021Z
LAST-MODIFIED:20260224T203836Z
UID:10000035-1774539000-1774542600@cteincolorado.org
SUMMARY:CTE Director Office Hours
DESCRIPTION:Open CTE Director office hours to provide support\, troubleshoot any challenges\, or connect to the CTE team.
URL:https://cteincolorado.org/event/cte-director-office-hours-2/
CATEGORIES:Office Hours
LOCATION:https://cccsmeetings.webex.com/cccsmeetings/j.php?MTID=m50bc8ed5 1e1bbe2e1fcb2f4622438832 
END:VEVENT
BEGIN:VEVENT
DTSTART;TZID=America/Denver:20260331T140000
DTEND;TZID=America/Denver:20260331T160000
DTSTAMP:20260425T071146
CREATED:20260220T202123Z
LAST-MODIFIED:20260223T194151Z
UID:10000026-1774965600-1774972800@cteincolorado.org
SUMMARY:Follow-Up Helpdesk
DESCRIPTION:Stop by to get assistance on your Follow-Up reporting!
URL:https://cteincolorado.org/event/follow-up-helpdesk-4/
CATEGORIES:Data Collection,Helpdesk
LOCATION:https://cccs-edu.zoom.us/j/85906392099
END:VEVENT
BEGIN:VEVENT
DTSTART;TZID=America/Denver:20260408T110000
DTEND;TZID=America/Denver:20260408T120000
DTSTAMP:20260425T071146
CREATED:20260224T172634Z
LAST-MODIFIED:20260224T203418Z
UID:10000041-1775646000-1775649600@cteincolorado.org
SUMMARY:Root Cause Analysis Webinar
DESCRIPTION:
URL:https://cteincolorado.org/event/root-cause-analysis-webinar/
CATEGORIES:Professional Development
LOCATION:https://cccs-edu.zoom.us/j/6103062236
END:VEVENT
BEGIN:VEVENT
DTSTART;TZID=America/Denver:20260415T090000
DTEND;TZID=America/Denver:20260415T120000
DTSTAMP:20260425T071146
CREATED:20260224T172743Z
LAST-MODIFIED:20260224T203300Z
UID:10000050-1776243600-1776254400@cteincolorado.org
SUMMARY:CTA Overview (Required for CTE Director 101)
DESCRIPTION:
URL:https://cteincolorado.org/event/cta-overview-required-for-cte-director-101-2/
CATEGORIES:CTA
LOCATION:https://cccsmeetings.webex.com/cccsmeetings/j.php?MTID=m50bc8ed5 1e1bbe2e1fcb2f4622438832 
END:VEVENT
BEGIN:VEVENT
DTSTART;TZID=America/Denver:20260415T140000
DTEND;TZID=America/Denver:20260415T160000
DTSTAMP:20260425T071146
CREATED:20260224T172635Z
LAST-MODIFIED:20260224T202359Z
UID:10000042-1776261600-1776268800@cteincolorado.org
SUMMARY:Program Approval Revisions/Renewal Support
DESCRIPTION:
URL:https://cteincolorado.org/event/program-approval-revisions-renewal-support/
CATEGORIES:Office Hours
LOCATION:https://cccsedu.zoom.us/j/84285812647?pw d=khy2Di3rzRbYT7THhQOHRk9Z TdwPzI.1&from=addon
END:VEVENT
BEGIN:VEVENT
DTSTART;TZID=America/Denver:20260416T130000
DTEND;TZID=America/Denver:20260416T160000
DTSTAMP:20260425T071146
CREATED:20260224T172638Z
LAST-MODIFIED:20260224T201921Z
UID:10000043-1776344400-1776355200@cteincolorado.org
SUMMARY:Perkins 101 (Required for CTE Director 101)
DESCRIPTION:
URL:https://cteincolorado.org/event/perkins-101-required-for-cte-director-101/
CATEGORIES:Perkins
LOCATION:https://cccs-edu.zoom.us/j/6103062236
END:VEVENT
BEGIN:VEVENT
DTSTART;TZID=America/Denver:20260422T110000
DTEND;TZID=America/Denver:20260422T120000
DTSTAMP:20260425T071146
CREATED:20260224T172644Z
LAST-MODIFIED:20260224T201330Z
UID:10000044-1776855600-1776859200@cteincolorado.org
SUMMARY:SPF and OGA informing UIPs Webinar
DESCRIPTION:
URL:https://cteincolorado.org/event/spf-and-oga-informing-uips-webinar/
CATEGORIES:Professional Development
LOCATION:https://cccs-edu.zoom.us/j/6103062236
END:VEVENT
BEGIN:VEVENT
DTSTART;TZID=America/Denver:20260506T090000
DTEND;TZID=America/Denver:20260506T120000
DTSTAMP:20260425T071146
CREATED:20260224T172649Z
LAST-MODIFIED:20260224T201126Z
UID:10000045-1778058000-1778068800@cteincolorado.org
SUMMARY:CTA Overview (Required for CTE Director 101)
DESCRIPTION:
URL:https://cteincolorado.org/event/cta-overview-required-for-cte-director-101/
CATEGORIES:CTA
LOCATION:https://cccs-edu.zoom.us/j/6103062236
END:VEVENT
BEGIN:VEVENT
DTSTART;TZID=America/Denver:20260507T130000
DTEND;TZID=America/Denver:20260507T160000
DTSTAMP:20260425T071146
CREATED:20260224T172653Z
LAST-MODIFIED:20260224T200703Z
UID:10000046-1778158800-1778169600@cteincolorado.org
SUMMARY:Perkins 101 (Required for CTE Director 101)
DESCRIPTION:
URL:https://cteincolorado.org/event/perkins-101-required-for-cte-director-101-2/
CATEGORIES:Perkins
LOCATION:https://cccs-edu.zoom.us/j/6103062236
END:VEVENT
BEGIN:VEVENT
DTSTART;TZID=America/Denver:20260513T110000
DTEND;TZID=America/Denver:20260513T120000
DTSTAMP:20260425T071146
CREATED:20260224T172656Z
LAST-MODIFIED:20260224T200128Z
UID:10000047-1778670000-1778673600@cteincolorado.org
SUMMARY:Analyzing Improvement Plans Webinar
DESCRIPTION:
URL:https://cteincolorado.org/event/analyzing-improvement-plans-webinar/
CATEGORIES:Professional Development
LOCATION:https://cccs-edu.zoom.us/j/6103062236
END:VEVENT
BEGIN:VEVENT
DTSTART;TZID=America/Denver:20260513T150000
DTEND;TZID=America/Denver:20260513T160000
DTSTAMP:20260425T071146
CREATED:20260224T172658Z
LAST-MODIFIED:20260224T195718Z
UID:10000048-1778684400-1778688000@cteincolorado.org
SUMMARY:Enrollment/Active Teacher Reporting Training
DESCRIPTION:
URL:https://cteincolorado.org/event/enrollment-active-teacher-reporting-training/
CATEGORIES:Data Collection
LOCATION:https://cccsedu.zoom.us/j/85906392099
END:VEVENT
BEGIN:VEVENT
DTSTART;TZID=America/Denver:20260527T140000
DTEND;TZID=America/Denver:20260527T160000
DTSTAMP:20260425T071146
CREATED:20260220T202125Z
LAST-MODIFIED:20260223T193947Z
UID:10000027-1779890400-1779897600@cteincolorado.org
SUMMARY:Active Teacher & Enrollment Helpdesk
DESCRIPTION:Stop by to get assistance on your Active Teachers or Enrollment Reporting!
URL:https://cteincolorado.org/event/active-teacher-enrollment-helpdesk/
CATEGORIES:Data Collection,Helpdesk
LOCATION:https://cccs-edu.zoom.us/j/85906392099
END:VEVENT
BEGIN:VEVENT
DTSTART;TZID=America/Denver:20260528T153000
DTEND;TZID=America/Denver:20260528T163000
DTSTAMP:20260425T071146
CREATED:20260223T212023Z
LAST-MODIFIED:20260224T195331Z
UID:10000036-1779982200-1779985800@cteincolorado.org
SUMMARY:CTE Director Office Hours
DESCRIPTION:Open CTE Director office hours to provide support\, troubleshoot any challenges\, or connect to the CTE team.
URL:https://cteincolorado.org/event/cte-director-office-hours-3/
CATEGORIES:Office Hours
LOCATION:https://cccsmeetings.webex.com/cccsmeetings/j.php?MTID=m50bc8ed5 1e1bbe2e1fcb2f4622438832 
END:VEVENT
BEGIN:VEVENT
DTSTART;TZID=America/Denver:20260603T110000
DTEND;TZID=America/Denver:20260603T120000
DTSTAMP:20260425T071146
CREATED:20260224T172739Z
LAST-MODIFIED:20260224T194113Z
UID:10000049-1780484400-1780488000@cteincolorado.org
SUMMARY:Annual Spending Plan Do's and Don'ts Webinar
DESCRIPTION:
URL:https://cteincolorado.org/event/annual-spending-plan-dos-and-donts-webinar/
CATEGORIES:Professional Development
LOCATION:https://cccs-edu.zoom.us/j/6103062236
END:VEVENT
BEGIN:VEVENT
DTSTART;TZID=America/Denver:20260610T140000
DTEND;TZID=America/Denver:20260610T160000
DTSTAMP:20260425T071146
CREATED:20260220T202127Z
LAST-MODIFIED:20260223T193902Z
UID:10000028-1781100000-1781107200@cteincolorado.org
SUMMARY:Active Teacher & Enrollment Helpdesk
DESCRIPTION:Stop by to get assistance on your Active Teachers or Enrollment Reporting!
URL:https://cteincolorado.org/event/active-teacher-enrollment-helpdesk-2/
CATEGORIES:Data Collection,Helpdesk
LOCATION:https://cccs-edu.zoom.us/j/85906392099
END:VEVENT
BEGIN:VEVENT
DTSTART;TZID=America/Denver:20260624T140000
DTEND;TZID=America/Denver:20260624T160000
DTSTAMP:20260425T071146
CREATED:20260220T202130Z
LAST-MODIFIED:20260223T193820Z
UID:10000029-1782309600-1782316800@cteincolorado.org
SUMMARY:Active Teacher & Enrollment Helpdesk
DESCRIPTION:Stop by to get assistance on your Active Teachers or Enrollment Reporting!
URL:https://cteincolorado.org/event/active-teacher-enrollment-helpdesk-3/
CATEGORIES:Data Collection,Helpdesk
LOCATION:https://cccs-edu.zoom.us/j/85906392099
END:VEVENT
BEGIN:VEVENT
DTSTART;TZID=America/Denver:20260625T153000
DTEND;TZID=America/Denver:20260625T163000
DTSTAMP:20260425T071146
CREATED:20260223T212025Z
LAST-MODIFIED:20260224T192228Z
UID:10000037-1782401400-1782405000@cteincolorado.org
SUMMARY:CTE Director Office Hours
DESCRIPTION:Open CTE Director office hours to provide support\, troubleshoot any challenges\, or connect to the CTE team.
URL:https://cteincolorado.org/event/cte-director-office-hours-4/
CATEGORIES:Office Hours
LOCATION:https://cccsmeetings.webex.com/cccs CTE Team Learning Opportunities & Connection Points     meetings/j.php?MTID=m50bc8ed5 1e1bbe2e1fcb2f4622438832
END:VEVENT
BEGIN:VEVENT
DTSTART;TZID=America/Denver:20260708T140000
DTEND;TZID=America/Denver:20260708T160000
DTSTAMP:20260425T071146
CREATED:20260220T202135Z
LAST-MODIFIED:20260223T193709Z
UID:10000030-1783519200-1783526400@cteincolorado.org
SUMMARY:Active Teacher & Enrollment Helpdesk
DESCRIPTION:Stop by to get assistance on your Active Teachers or Enrollment Reporting!
URL:https://cteincolorado.org/event/active-teacher-enrollment-helpdesk-4/
CATEGORIES:Data Collection,Helpdesk
LOCATION:https://cccs-edu.zoom.us/j/85906392099
END:VEVENT
BEGIN:VEVENT
DTSTART;TZID=America/Denver:20260729T140000
DTEND;TZID=America/Denver:20260729T160000
DTSTAMP:20260425T071146
CREATED:20260220T202138Z
LAST-MODIFIED:20260223T192600Z
UID:10000031-1785333600-1785340800@cteincolorado.org
SUMMARY:Active Teacher & Enrollment Helpdesk
DESCRIPTION:Stop by to get assistance on your Active Teachers or Enrollment Reporting!
URL:https://cteincolorado.org/event/active-teacher-enrollment-helpdesk-5/
CATEGORIES:Data Collection,Helpdesk
LOCATION:https://cccs-edu.zoom.us/j/85906392099
END:VEVENT
BEGIN:VEVENT
DTSTART;TZID=America/Denver:20260730T140000
DTEND;TZID=America/Denver:20260730T160000
DTSTAMP:20260425T071146
CREATED:20260220T202140Z
LAST-MODIFIED:20260223T192013Z
UID:10000032-1785420000-1785427200@cteincolorado.org
SUMMARY:Active Teacher & Enrollment Helpdesk
DESCRIPTION:Stop by to get assistance on your Active Teachers or Enrollment Reporting!
URL:https://cteincolorado.org/event/active-teacher-enrollment-helpdesk-6/
CATEGORIES:Data Collection,Helpdesk
LOCATION:https://cccs-edu.zoom.us/j/85906392099
END:VEVENT
BEGIN:VEVENT
DTSTART;TZID=America/Denver:20260730T153000
DTEND;TZID=America/Denver:20260730T163000
DTSTAMP:20260425T071146
CREATED:20260223T212027Z
LAST-MODIFIED:20260224T185831Z
UID:10000038-1785425400-1785429000@cteincolorado.org
SUMMARY:CTE Director Office Hours
DESCRIPTION:Open CTE Director office hours to provide support\, troubleshoot any challenges\, or connect to the CTE team.
URL:https://cteincolorado.org/event/cte-director-office-hours-5/
CATEGORIES:Office Hours
LOCATION:https://cccsmeetings.webex.com/cccsmeetings/j.php?MTID=m50bc8ed5 1e1bbe2e1fcb2f4622438832
END:VEVENT
BEGIN:VEVENT
DTSTART;TZID=America/Denver:20260731T140000
DTEND;TZID=America/Denver:20260731T160000
DTSTAMP:20260425T071146
CREATED:20260220T202142Z
LAST-MODIFIED:20260223T191304Z
UID:10000033-1785506400-1785513600@cteincolorado.org
SUMMARY:Active Teacher & Enrollment Helpdesk
DESCRIPTION:Stop by to get assistance on your Active Teachers or Enrollment Reporting!
URL:https://cteincolorado.org/event/active-teacher-enrollment-helpdesk-7/
CATEGORIES:Data Collection,Helpdesk
LOCATION:https://cccs-edu.zoom.us/j/85906392099
END:VEVENT
END:VCALENDAR